Workbook

Sheet Hoja1
F1: PROMEDIO MENSUAL | L1: PROMEDIO POR CADA DOS HORAS
C2: Parámetro | D2: Unidad | F2: Mes | H2: 0 | I2: 0.083333333 | J2: 0.16666667 | K2: 0.25 | L2: 0.33333333 | M2: 0.41666667 | N2: 0.5 | O2: 0.58333333 | P2: 0.66666667 | Q2: 0.75 | R2: 0.83333333 | S2: 0.91666667
C3: CO | D3: ppm | F3: Enero | G3: =ROUND(1.97922043010753,2) -> 1.98 | H3: 2.2387097 | I3: 1.9677419 | J3: 1.6709677 | K3: 1.5874194 | L3: 2.0606452 | M3: 1.3112903 | N3: 1.7787097 | O3: 1.6448387 | P3: 1.7509677 | Q3: 2.5232258 | R3: 2.523871 | S3: 2.4367742
F4: Febrero | G4: =ROUND(0.937529761904762,2) -> 0.94 | H4: 1.1264286 | I4: 1.1521429 | J4: 0.9825 | K4: 0.8575 | L4: 1.5882143 | M4: 0.89392857 | N4: 0.535 | O4: 0.58892857 | P4: 0.59107143 | Q4: 0.7825 | R4: 1.1289286 | S4: 1.0867857
F5: Marzo | G5: =ROUND(0.973225806451612,2) -> 0.97 | H5: 1.0819355 | I5: 0.91258065 | J5: 0.87129032 | K5: 1.1041935 | L5: 1.4487097 | M5: 0.96935484 | N5: 0.90387097 | O5: 0.75548387 | P5: 0.74645161 | Q5: 0.81903226 | R5: 0.92290323 | S5: 1.0451613
F6: Abril | G6: =ROUND(1.02366666666667,2) -> 1.02 | H6: 1.0033333 | I6: 0.98133333 | J6: 0.97 | K6: 1.2966667 | L6: 1.469 | M6: 1.0006667 | N6: 0.90933333 | O6: 0.88566667 | P6: 0.895 | Q6: 0.92366667 | R6: 0.97266667 | S6: 0.991
F7: Mayo | G7: =ROUND(0.875047619047619,2) -> 0.88 | H7: 0.79387097 | I7: 0.77 | J7: 0.77806452 | K7: 0.96322581 | L7: 0.99903226 | M7: 0.90612903 | N7: 0.86387097 | O7: 0.85193548 | P7: 0.88233333 | Q7: 0.90366667 | R7: 0.901 | S7: 0.86033333
F8: Junio | G8: =ROUND(0.799671641791045,2) -> 0.8 | H8: 0.59851852 | I8: 0.5637037 | J8: 0.57037037 | K8: 0.65740741 | L8: 1.3444828 | M8: 1.5082759 | N8: 0.85793103 | O8: 1.0371429 | P8: 0.67 | Q8: 0.68035714 | R8: 0.68428571 | S8: 0.65464286
F9: Julio | G9: =ROUND(1.11124661246612,2) -> 1.11 | H9: 1.0606452 | I9: 1 | J9: 1.0022581 | K9: 1.0970968 | L9: 1.2687097 | M9: 1.1854839 | N9: 1.1051613 | O9: 1.0377419 | P9: 1.0529032 | Q9: 1.1212903 | R9: 1.2087097 | S9: 1.1348387
F10: Agosto | G10: =ROUND(1.50975806451613,2) -> 1.51 | H10: 1.5016129 | I10: 1.35 | J10: 1.4654839 | K10: 1.5883871 | L10: 1.6235484 | M10: 1.6609677 | N10: 1.4951613 | O10: 1.4058065 | P10: 1.4612903 | Q10: 1.4929032 | R10: 1.5051613 | S10: 1.5087097
F11: Septiembre | G11: =ROUND(0.859138888888889,2) -> 0.86 | H11: 0.77733333 | I11: 0.75966667 | J11: 0.79033333 | K11: 0.95933333 | L11: 0.99266667 | M11: 1.0393333 | N11: 0.76433333 | O11: 0.847 | P11: 0.73733333 | Q11: 0.798 | R11: 0.74566667 | S11: 0.794
F12: Octubre | G12: =ROUND(1.14464864864865,2) -> 1.14 | H12: 1.2322581 | I12: 1.1287097 | J12: 1.0425806 | K12: 1.5106452 | L12: 1.6216129 | M12: 1.0587097 | N12: 0.8483871 | O12: 0.81612903 | P12: 0.90066667 | Q12: 1.0616667 | R12: 1.1016129 | S12: 1.2235484
F13: Noviembre | G13: =ROUND(1.42080667593881,2) -> 1.42 | H13: 1.801 | I13: 1.5289655 | J13: 1.2276667 | K13: 1.3486667 | L13: 1.9636667 | M13: 1.1806667 | N13: 1.0043333 | O13: 1.0573333 | P13: 1.1096667 | Q13: 1.3963333 | R13: 1.7276667 | S13: 1.8676667
F14: Diciembre | G14: =ROUND(1.35037634408602,2) -> 1.35 | H14: 1.6329032 | I14: 1.3164516 | J14: 1.1277419 | K14: 1.2035484 | L14: 2.2306452 | M14: 1.3270968 | N14: 0.94483871 | O14: 0.88193548 | P14: 0.9883871 | Q14: 1.2890323 | R14: 1.5890323 | S14: 1.7506452
F15: Promedio final horas | H15: =ROUND(AVERAGE(H3:H14),2) -> 1.24 | I15: =ROUND(AVERAGE(I3:I14),2) -> 1.12 | J15: =ROUND(AVERAGE(J3:J14),2) -> 1.04 | K15: =ROUND(AVERAGE(K3:K14),2) -> 1.18 | L15: =ROUND(AVERAGE(L3:L14),2) -> 1.55 | M15: =ROUND(AVERAGE(M3:M14),2) -> 1.17 | N15: =ROUND(AVERAGE(N3:N14),2) -> 1 | O15: =ROUND(AVERAGE(O3:O14),2) -> 0.98 | ... S15: =ROUND(AVERAGE(S3:S14),2) -> 1.28
D17: TOP 3 MAYORES HORARIOS CONTAMINANTES | H17: =LARGE(H15:S15,1) -> 1.55 | I17: =LARGE(H15:S15,2) -> 1.28 | J17: =LARGE(H15:S15,3) -> 1.25
D18: TOP 3 MENORES HORARIOS CONTAMINANTES | H18: =SMALL(H15:S15,1) -> 0.98 | I18: =SMALL(H15:S15,2) -> 0.98 | J18: =SMALL(H15:S15,3) -> 1

Sheet Hoja2
D1: Análisis de los datos de 24 horas de CO2
H3: Datos
B4: Límite | C4: 11 ppm | G4: Mes | H4: Hora | I4: Valor (ppm)
A5: Promedio 24 hrs. | C5: =AVERAGE(I5:I16) -> 0.94282738 | G5: Febrero | H5: 0 | I5: =LOOKUP(G5,Hoja1!F3:F14, Hoja1!H3:H14) -> 1.1264286
B6: Máximo | C6: =MAX(I5:I16) -> 1.5882143 | H6: 0.083333333 | I6: =LOOKUP(G5,Hoja1!F3:F14,Hoja1!I3:I14) -> 1.1521429
B7: Condición | C7: =IF(C6>11, "Mala", "Debajo del límite") -> Debajo del límite | H7: 0.16666667 | I7: =LOOKUP(G5,Hoja1!F3:F14,Hoja1!J3:J14) -> 0.9825
H8: 0.25 | I8: =LOOKUP(G5,Hoja1!F3:F14,Hoja1!K3:K14) -> 0.8575
H9: 0.33333333 | I9: =LOOKUP(G5,Hoja1!F3:F14,Hoja1!L3:L14) -> 1.5882143
H10: 0.41666667 | I10: =LOOKUP(G5,Hoja1!F3:F14,Hoja1!M3:M14) -> 0.89392857
H11: 0.5 | I11: =LOOKUP(G5,Hoja1!F3:F14,Hoja1!N3:N14) -> 0.535
H12: 0.58333333 | I12: =LOOKUP(G5,Hoja1!F3:F14,Hoja1!O3:O14) -> 0.58892857
H13: 0.66666667 | I13: =LOOKUP(G5,Hoja1!F3:F14,Hoja1!P3:P14) -> 0.59107143
H14: 0.75 | I14: =LOOKUP(G5,Hoja1!F3:F14,Hoja1!Q3:Q14) -> 0.7825
H15: 0.83333333 | I15: =LOOKUP(G5,Hoja1!F3:F14,Hoja1!R3:R14) -> 1.1289286
H16: 0.91666667 | I16: =LOOKUP(G5,Hoja1!F3:F14,Hoja1!S3:S14) -> 1.0867857

Sheet Hoja3
